BEGIN:VCALENDAR
VERSION:2.0
PRODID:-//MSCPM - ECPv6.15.20//NONSGML v1.0//EN
CALSCALE:GREGORIAN
METHOD:PUBLISH
X-ORIGINAL-URL:https://mscpm.org
X-WR-CALDESC:Events for MSCPM
REFRESH-INTERVAL;VALUE=DURATION:PT1H
X-Robots-Tag:noindex
X-PUBLISHED-TTL:PT1H
BEGIN:VTIMEZONE
TZID:America/Chicago
BEGIN:DAYLIGHT
TZOFFSETFROM:-0600
TZOFFSETTO:-0500
TZNAME:CDT
DTSTART:20200308T080000
END:DAYLIGHT
BEGIN:STANDARD
TZOFFSETFROM:-0500
TZOFFSETTO:-0600
TZNAME:CST
DTSTART:20201101T070000
END:STANDARD
BEGIN:DAYLIGHT
TZOFFSETFROM:-0600
TZOFFSETTO:-0500
TZNAME:CDT
DTSTART:20210314T080000
END:DAYLIGHT
BEGIN:STANDARD
TZOFFSETFROM:-0500
TZOFFSETTO:-0600
TZNAME:CST
DTSTART:20211107T070000
END:STANDARD
BEGIN:DAYLIGHT
TZOFFSETFROM:-0600
TZOFFSETTO:-0500
TZNAME:CDT
DTSTART:20220313T080000
END:DAYLIGHT
BEGIN:STANDARD
TZOFFSETFROM:-0500
TZOFFSETTO:-0600
TZNAME:CST
DTSTART:20221106T070000
END:STANDARD
END:VTIMEZONE
BEGIN:VEVENT
DTSTART;TZID=America/Chicago:20211104T114500
DTEND;TZID=America/Chicago:20211104T130000
DTSTAMP:20260423T041636
CREATED:20211015T193826Z
LAST-MODIFIED:20211015T193826Z
UID:11402-1636026300-1636030800@mscpm.org
SUMMARY:November 2021 Lunch and Learn
DESCRIPTION:Join us as we welcome Ryan Beard with the Mississippi State Personnel Board. Mr. Beard will update us on all the latest information related to the Personnel Board’s SEC2 Classification and Compensation Initiative. This meeting will be conducted via Zoom. Zoom information will be sent to registered attendees at a later date. \nWe look forward to having you join us. \nTo register\, complete this form: \n\n	Notice: JavaScript is required for this content.
URL:https://mscpm.org/event/november-2021-lunch-and-learn/
END:VEVENT
END:VCALENDAR