BEGIN:VCALENDAR
VERSION:2.0
PRODID:-//MSCPM - ECPv6.15.20//NONSGML v1.0//EN
CALSCALE:GREGORIAN
METHOD:PUBLISH
X-WR-CALNAME:MSCPM
X-ORIGINAL-URL:https://mscpm.org
X-WR-CALDESC:Events for MSCPM
REFRESH-INTERVAL;VALUE=DURATION:PT1H
X-Robots-Tag:noindex
X-PUBLISHED-TTL:PT1H
BEGIN:VTIMEZONE
TZID:America/Chicago
BEGIN:DAYLIGHT
TZOFFSETFROM:-0600
TZOFFSETTO:-0500
TZNAME:CDT
DTSTART:20210314T080000
END:DAYLIGHT
BEGIN:STANDARD
TZOFFSETFROM:-0500
TZOFFSETTO:-0600
TZNAME:CST
DTSTART:20211107T070000
END:STANDARD
BEGIN:DAYLIGHT
TZOFFSETFROM:-0600
TZOFFSETTO:-0500
TZNAME:CDT
DTSTART:20220313T080000
END:DAYLIGHT
BEGIN:STANDARD
TZOFFSETFROM:-0500
TZOFFSETTO:-0600
TZNAME:CST
DTSTART:20221106T070000
END:STANDARD
BEGIN:DAYLIGHT
TZOFFSETFROM:-0600
TZOFFSETTO:-0500
TZNAME:CDT
DTSTART:20230312T080000
END:DAYLIGHT
BEGIN:STANDARD
TZOFFSETFROM:-0500
TZOFFSETTO:-0600
TZNAME:CST
DTSTART:20231105T070000
END:STANDARD
BEGIN:DAYLIGHT
TZOFFSETFROM:-0600
TZOFFSETTO:-0500
TZNAME:CDT
DTSTART:20240310T080000
END:DAYLIGHT
BEGIN:STANDARD
TZOFFSETFROM:-0500
TZOFFSETTO:-0600
TZNAME:CST
DTSTART:20241103T070000
END:STANDARD
BEGIN:DAYLIGHT
TZOFFSETFROM:-0600
TZOFFSETTO:-0500
TZNAME:CDT
DTSTART:20250309T080000
END:DAYLIGHT
BEGIN:STANDARD
TZOFFSETFROM:-0500
TZOFFSETTO:-0600
TZNAME:CST
DTSTART:20251102T070000
END:STANDARD
BEGIN:DAYLIGHT
TZOFFSETFROM:-0600
TZOFFSETTO:-0500
TZNAME:CDT
DTSTART:20260308T080000
END:DAYLIGHT
BEGIN:STANDARD
TZOFFSETFROM:-0500
TZOFFSETTO:-0600
TZNAME:CST
DTSTART:20261101T070000
END:STANDARD
BEGIN:DAYLIGHT
TZOFFSETFROM:-0600
TZOFFSETTO:-0500
TZNAME:CDT
DTSTART:20270314T080000
END:DAYLIGHT
BEGIN:STANDARD
TZOFFSETFROM:-0500
TZOFFSETTO:-0600
TZNAME:CST
DTSTART:20271107T070000
END:STANDARD
END:VTIMEZONE
BEGIN:VEVENT
DTSTART;TZID=America/Chicago:20221117T114500
DTEND;TZID=America/Chicago:20221117T131500
DTSTAMP:20260422T174922
CREATED:20220822T173913Z
LAST-MODIFIED:20220822T173913Z
UID:11590-1668685500-1668690900@mscpm.org
SUMMARY:Lunch and Learn
DESCRIPTION:Brad White\, MDOT Executive Director\, will be our featured speaker. The meeting will take place in the MDOT 6th Floor Executive Conference Room\, 401 North West Street\, Jackson and will also be available via Zoom. \nRegistration is required: \nPlease enable JavaScript in your browser to complete this form.Name *FirstLastEmail *Checkboxes (Choose one only) *In PersonZoomSubmit
URL:https://mscpm.org/event/lunch-and-learn-9/
END:VEVENT
BEGIN:VEVENT
DTSTART;TZID=America/Chicago:20230210T120000
DTEND;TZID=America/Chicago:20230210T130000
DTSTAMP:20260422T174922
CREATED:20230127T145043Z
LAST-MODIFIED:20230127T145043Z
UID:11632-1676030400-1676034000@mscpm.org
SUMMARY:Lunch and Learn
DESCRIPTION:Join us for our next lunch and learn. \n \nThis will be via Zoom only. Register at Please enable JavaScript in your browser to complete this form.Name *FirstLastEmail *Submit  .
URL:https://mscpm.org/event/lunch-and-learn-10/
END:VEVENT
BEGIN:VEVENT
DTSTART;TZID=America/Chicago:20230323T114500
DTEND;TZID=America/Chicago:20230323T130000
DTSTAMP:20260422T174922
CREATED:20230217T210151Z
LAST-MODIFIED:20230217T210500Z
UID:11640-1679571900-1679576400@mscpm.org
SUMMARY:Lunch and Learn
DESCRIPTION:To register: \nPlease enable JavaScript in your browser to complete this form.Name *FirstLastEmail *Submit  \nZoom info will be sent to registered participants at a later date.
URL:https://mscpm.org/event/11640/
END:VEVENT
BEGIN:VEVENT
DTSTART;VALUE=DATE:20230830
DTEND;VALUE=DATE:20230902
DTSTAMP:20260422T174922
CREATED:20211210T142247Z
LAST-MODIFIED:20230607T160058Z
UID:11505-1693353600-1693612799@mscpm.org
SUMMARY:MSCPM Annual Conference
DESCRIPTION:Complete and return the registration form: RegistrationCPM2023 revised \nClick here for the agenda: MSCPM Conference Agenda 2023 \nAlso\, PERS will be providing individual retirement statements to attendees. To request that\, complete and return this form: Member Request for AssistanceRevised 2013 \n 
URL:https://mscpm.org/event/mscpm-annual-conference-2/
LOCATION:Gulfport Beachfront Courtyard by Marriott\, 1600 E. Beach Boulevard\, Gulfport\, MS\, 39501\, United States
END:VEVENT
BEGIN:VEVENT
DTSTART;TZID=America/Chicago:20231011T113000
DTEND;TZID=America/Chicago:20231011T130000
DTSTAMP:20260422T174922
CREATED:20230912T183614Z
LAST-MODIFIED:20230922T144448Z
UID:11724-1697023800-1697029200@mscpm.org
SUMMARY:Lunch and Learn
DESCRIPTION:To register\, email mscpmsociety@gmail.com. \n  \n 
URL:https://mscpm.org/event/lunch-and-learn-11/
END:VEVENT
BEGIN:VEVENT
DTSTART;TZID=America/Chicago:20231116T113000
DTEND;TZID=America/Chicago:20231116T130000
DTSTAMP:20260422T174922
CREATED:20231030T144046Z
LAST-MODIFIED:20231030T144232Z
UID:11738-1700134200-1700139600@mscpm.org
SUMMARY:Lunch and Learn
DESCRIPTION:Register at: https://us02web.zoom.us/meeting/register/tZwudOGgrDktGNB0W03Vfx1mGC70PWfi2_aa
URL:https://mscpm.org/event/lunch-and-learn-12/
END:VEVENT
BEGIN:VEVENT
DTSTART;TZID=America/Chicago:20231212T173000
DTEND;TZID=America/Chicago:20231212T200000
DTSTAMP:20260422T174922
CREATED:20231030T144526Z
LAST-MODIFIED:20231030T152605Z
UID:11743-1702402200-1702411200@mscpm.org
SUMMARY:Christmas Social
DESCRIPTION:To register\, send an email to mscpmsociety@gmail.com. \n  \n 
URL:https://mscpm.org/event/christmas-social/
LOCATION:Mississippi Library Commission\, 3881 Eastwood Drive\, Jackson\, MS\, 39211
END:VEVENT
BEGIN:VEVENT
DTSTART;TZID=America/Chicago:20240216T113000
DTEND;TZID=America/Chicago:20240216T130000
DTSTAMP:20260422T174922
CREATED:20240202T155507Z
LAST-MODIFIED:20240202T155507Z
UID:11766-1708083000-1708088400@mscpm.org
SUMMARY:Lunch and Learn
DESCRIPTION:
URL:https://mscpm.org/event/lunch-and-learn-13/
END:VEVENT
BEGIN:VEVENT
DTSTART;VALUE=DATE:20240828
DTEND;VALUE=DATE:20240831
DTSTAMP:20260422T174922
CREATED:20240325T131745Z
LAST-MODIFIED:20240624T131722Z
UID:11770-1724803200-1725062399@mscpm.org
SUMMARY:2024 Annual Conference
DESCRIPTION:Registration Form: RegistrationCPM2024 \nTentative Agenda: MSCPM Conference Agenda 2024
URL:https://mscpm.org/event/2024-annual-conference/
LOCATION:Holiday Inn Express and Suites\, 1612 McClure Cove\, Tupelo\, MS
END:VEVENT
BEGIN:VEVENT
DTSTART;VALUE=DATE:20250401
DTEND;VALUE=DATE:20250405
DTSTAMP:20260422T174922
CREATED:20241010T182958Z
LAST-MODIFIED:20241010T183125Z
UID:11822-1743465600-1743811199@mscpm.org
SUMMARY:MSCPM Conference 2025
DESCRIPTION:The MSCPM Conference for 2025 will be in Oxford\, Mississippi a the Oxford Conference Center\, April 1-4\, 2025.
URL:https://mscpm.org/event/mscpm-conference-2025/
END:VEVENT
BEGIN:VEVENT
DTSTART;VALUE=DATE:20260408
DTEND;VALUE=DATE:20260411
DTSTAMP:20260422T174922
CREATED:20260204T195216Z
LAST-MODIFIED:20260204T202545Z
UID:12054-1775606400-1775865599@mscpm.org
SUMMARY:2026 MS CPM Conference
DESCRIPTION:Complete and return the 2026 registration form.
URL:https://mscpm.org/event/2026-ms-cpm-conference/
LOCATION:Oxford Conference center
END:VEVENT
END:VCALENDAR