BEGIN:VCALENDAR
VERSION:2.0
PRODID:-//MSCPM - ECPv6.15.20//NONSGML v1.0//EN
CALSCALE:GREGORIAN
METHOD:PUBLISH
X-WR-CALNAME:MSCPM
X-ORIGINAL-URL:https://mscpm.org
X-WR-CALDESC:Events for MSCPM
REFRESH-INTERVAL;VALUE=DURATION:PT1H
X-Robots-Tag:noindex
X-PUBLISHED-TTL:PT1H
BEGIN:VTIMEZONE
TZID:America/Chicago
BEGIN:DAYLIGHT
TZOFFSETFROM:-0600
TZOFFSETTO:-0500
TZNAME:CDT
DTSTART:20170312T080000
END:DAYLIGHT
BEGIN:STANDARD
TZOFFSETFROM:-0500
TZOFFSETTO:-0600
TZNAME:CST
DTSTART:20171105T070000
END:STANDARD
BEGIN:DAYLIGHT
TZOFFSETFROM:-0600
TZOFFSETTO:-0500
TZNAME:CDT
DTSTART:20180311T080000
END:DAYLIGHT
BEGIN:STANDARD
TZOFFSETFROM:-0500
TZOFFSETTO:-0600
TZNAME:CST
DTSTART:20181104T070000
END:STANDARD
BEGIN:DAYLIGHT
TZOFFSETFROM:-0600
TZOFFSETTO:-0500
TZNAME:CDT
DTSTART:20190310T080000
END:DAYLIGHT
BEGIN:STANDARD
TZOFFSETFROM:-0500
TZOFFSETTO:-0600
TZNAME:CST
DTSTART:20191103T070000
END:STANDARD
END:VTIMEZONE
BEGIN:VEVENT
DTSTART;TZID=America/Chicago:20181206T113000
DTEND;TZID=America/Chicago:20181206T123000
DTSTAMP:20260423T054749
CREATED:20181116T160251Z
LAST-MODIFIED:20181116T184920Z
UID:494-1544095800-1544099400@mscpm.org
SUMMARY:Lunch and Learn
DESCRIPTION:
URL:https://mscpm.org/event/lunch-and-learn/
LOCATION:Mississippi State Personnel Board\, 210 East Capitol Street\, Suite 800\, Jackson\, MS\, 210 E. Capitol\, Suite 800\, Jackson\, MS\, United States
END:VEVENT
END:VCALENDAR