BEGIN:VCALENDAR
VERSION:2.0
PRODID:-//MSCPM - ECPv6.15.20//NONSGML v1.0//EN
CALSCALE:GREGORIAN
METHOD:PUBLISH
X-WR-CALNAME:MSCPM
X-ORIGINAL-URL:https://mscpm.org
X-WR-CALDESC:Events for MSCPM
REFRESH-INTERVAL;VALUE=DURATION:PT1H
X-Robots-Tag:noindex
X-PUBLISHED-TTL:PT1H
BEGIN:VTIMEZONE
TZID:America/Chicago
BEGIN:DAYLIGHT
TZOFFSETFROM:-0600
TZOFFSETTO:-0500
TZNAME:CDT
DTSTART:20200308T080000
END:DAYLIGHT
BEGIN:STANDARD
TZOFFSETFROM:-0500
TZOFFSETTO:-0600
TZNAME:CST
DTSTART:20201101T070000
END:STANDARD
BEGIN:DAYLIGHT
TZOFFSETFROM:-0600
TZOFFSETTO:-0500
TZNAME:CDT
DTSTART:20210314T080000
END:DAYLIGHT
BEGIN:STANDARD
TZOFFSETFROM:-0500
TZOFFSETTO:-0600
TZNAME:CST
DTSTART:20211107T070000
END:STANDARD
BEGIN:DAYLIGHT
TZOFFSETFROM:-0600
TZOFFSETTO:-0500
TZNAME:CDT
DTSTART:20220313T080000
END:DAYLIGHT
BEGIN:STANDARD
TZOFFSETFROM:-0500
TZOFFSETTO:-0600
TZNAME:CST
DTSTART:20221106T070000
END:STANDARD
END:VTIMEZONE
BEGIN:VEVENT
DTSTART;VALUE=DATE:20210824
DTEND;VALUE=DATE:20210827
DTSTAMP:20260423T070530
CREATED:20210706T153546Z
LAST-MODIFIED:20210706T153546Z
UID:11308-1629763200-1630022399@mscpm.org
SUMMARY:MSCPM Annual Conference
DESCRIPTION:We are excited to be able to provide the attached tentative agenda and registration form for the 2021 MSCPM Annual Conference. We look forward to seeing you in Biloxi. \n2021 Spring Conference Registration MSC \nPM Conference Agenda 2021tentative
URL:https://mscpm.org/event/mscpm-annual-conference/
END:VEVENT
END:VCALENDAR